BEGIN:VCALENDAR
VERSION:2.0
PRODID:-//Plone.org//NONSGML plone.app.event//EN
X-WR-TIMEZONE:Europe/Madrid
BEGIN:VEVENT
SUMMARY:Reunió mensual de la regidoria d'Educació i les llars d'infants municipals
DTSTART;TZID=Europe/Madrid;VALUE=DATE-TIME:20210514T094500
DTEND;TZID=Europe/Madrid;VALUE=DATE-TIME:20210514T104500
DTSTAMP;VALUE=DATE-TIME:20260423T103016Z
UID:89c1927d9b511e2bc7456f5aa8cd956a
CREATED;VALUE=DATE-TIME:20210514T000000Z
CATEGORIES:Infantils,Reunió,Agenda institucional
LOCATION:Sessió telemàtica
ORGANIZER:Regidoria d'Educació
COMMENT:Durada: 1 hora
DESCRIPTION:Hi assistirà la regidora d'Educació, Maria José Cano
URL:https://ajllavaneres.cat/document.php?id=16231
END:VEVENT
END:VCALENDAR