BEGIN:VCALENDAR
VERSION:2.0
PRODID:-//Plone.org//NONSGML plone.app.event//EN
X-WR-TIMEZONE:Europe/Madrid
BEGIN:VEVENT
SUMMARY:Casal d'Estiu a Can Masriera
DTSTART;TZID=Europe/Madrid;VALUE=DATE-TIME:20210628T090000
DTEND;TZID=Europe/Madrid;VALUE=DATE-TIME:20210628T100000
DTSTAMP;VALUE=DATE-TIME:20260424T152757Z
UID:1304e2560f0a9e376dcb678bd2bc9957
CREATED;VALUE=DATE-TIME:20210628T000000Z
CATEGORIES:Esports,Infantils
LOCATION:Can Masriera
ORGANIZER:Educa + i Can Masriera
COMMENT:Preu: Mati (9h-13h) - 65.50&euro; - Dinar (13h-15h) 35 &euro; - Tarda (13h-17h)- 23&euro;
Durada: Del 28 de juny al 30 de juliol
URL:https://ajllavaneres.cat/document.php?id=16238
END:VEVENT
END:VCALENDAR