BEGIN:VCALENDAR
VERSION:2.0
PRODID:-//Plone.org//NONSGML plone.app.event//EN
X-WR-TIMEZONE:Europe/Madrid
BEGIN:VEVENT
SUMMARY:Hora del conte: 'Canvia el xip, recicla'ls'
DTSTART;TZID=Europe/Madrid;VALUE=DATE-TIME:20210515T110000
DTEND;TZID=Europe/Madrid;VALUE=DATE-TIME:20210515T120000
DTSTAMP;VALUE=DATE-TIME:20260422T162037Z
UID:43fc2193ee2b0bb21cedf8996387e1d8
CREATED;VALUE=DATE-TIME:20210515T000000Z
CATEGORIES:Infantils
LOCATION:Sala d'actes de la Biblioteca Municipal - Closens, 65
ORGANIZER:Biblioteca Municipal
COMMENT:Preu: Gratuït
URL:https://ajllavaneres.cat/document.php?id=16293
END:VEVENT
END:VCALENDAR