BEGIN:VCALENDAR
VERSION:2.0
PRODID:-//Plone.org//NONSGML plone.app.event//EN
X-WR-TIMEZONE:Europe/Madrid
BEGIN:VEVENT
SUMMARY:Preinscripcions als cursets de natació
DTSTART;TZID=Europe/Madrid;VALUE=DATE-TIME:20210613T000000
DTEND;TZID=Europe/Madrid;VALUE=DATE-TIME:20210613T010000
DTSTAMP;VALUE=DATE-TIME:20260422T161158Z
UID:0c48a0c87c9e57dad1ae713a7b1af282
CREATED;VALUE=DATE-TIME:20210607T000000Z
CATEGORIES:Esports
LOCATION:Inscripcions al web municipal
ORGANIZER:Regidoria d'Esports
COMMENT:Preu: 55,50 &euro; / mes
Durada: Juliol i agost
DESCRIPTION:Piscina municipal Estiu 2021
URL:https://ajllavaneres.cat/document.php?id=16384
END:VEVENT
END:VCALENDAR