BEGIN:VCALENDAR
VERSION:2.0
PRODID:-//Plone.org//NONSGML plone.app.event//EN
X-WR-TIMEZONE:Europe/Madrid
BEGIN:VEVENT
SUMMARY:Revetlla Sant Pere amb Exel Grup
DTSTART;TZID=Europe/Madrid;VALUE=DATE-TIME:20210628T220000
DTEND;TZID=Europe/Madrid;VALUE=DATE-TIME:20210628T230000
DTSTAMP;VALUE=DATE-TIME:20260424T152208Z
UID:43805e92928f39f867990ad2a9026dc4
CREATED;VALUE=DATE-TIME:20210628T000000Z
LOCATION:Parc de Sant Pere
COMMENT:Preu: Gratüit
URL:https://ajllavaneres.cat/document.php?id=16387
END:VEVENT
END:VCALENDAR