BEGIN:VCALENDAR
VERSION:2.0
PRODID:-//Plone.org//NONSGML plone.app.event//EN
X-WR-TIMEZONE:Europe/Madrid
BEGIN:VEVENT
SUMMARY:Xerrada: &OpenCurlyDoubleQuote;Informació sobre els al·lèrgens&CloseCurlyDoubleQuote;
DTSTART;TZID=Europe/Madrid;VALUE=DATE-TIME:20210616T000000
DTEND;TZID=Europe/Madrid;VALUE=DATE-TIME:20210616T010000
DTSTAMP;VALUE=DATE-TIME:20260420T100940Z
UID:a363379fd6c28b562e68f3e407ac4471
CREATED;VALUE=DATE-TIME:20210616T000000Z
CATEGORIES:Conferència
LOCATION:Sessió telemàtica
ORGANIZER:Regidoria de Promoció Econòmica, Empresa, Comerç, Consum i Turisme
COMMENT:Preu: Gratuït
URL:https://ajllavaneres.cat/document.php?id=16416
END:VEVENT
END:VCALENDAR