BEGIN:VCALENDAR
VERSION:2.0
PRODID:-//Plone.org//NONSGML plone.app.event//EN
X-WR-TIMEZONE:Europe/Madrid
BEGIN:VEVENT
SUMMARY:Campaments d'Estiu de l'AE Esclat
DTSTART;TZID=Europe/Madrid;VALUE=DATE-TIME:20210814T000000
DTEND;TZID=Europe/Madrid;VALUE=DATE-TIME:20210814T010000
DTSTAMP;VALUE=DATE-TIME:20260420T114413Z
UID:a2818b07dbbc7750f24401c4667eae12
CREATED;VALUE=DATE-TIME:20210804T000000Z
CATEGORIES:Infantils
LOCATION:Terreny al costat del Pedraforca
ORGANIZER:AE L'Esclat
COMMENT:Preu: 150&euro;
Durada: 10 dies amb pernoctació
URL:https://ajllavaneres.cat/document.php?id=16419
END:VEVENT
END:VCALENDAR