BEGIN:VCALENDAR
VERSION:2.0
PRODID:-//Plone.org//NONSGML plone.app.event//EN
X-WR-TIMEZONE:Europe/Madrid
BEGIN:VEVENT
SUMMARY:Concert amb Abel Munné
DTSTART;TZID=Europe/Madrid;VALUE=DATE-TIME:20210620T190000
DTEND;TZID=Europe/Madrid;VALUE=DATE-TIME:20210620T200000
DTSTAMP;VALUE=DATE-TIME:20260420T032921Z
UID:b4e639e02ae5504f73cdb1a3c53fd4cb
CREATED;VALUE=DATE-TIME:20210620T000000Z
CATEGORIES:Música
LOCATION:El Casal de Llavaneres - Avinguda de Catalunya, 56
ORGANIZER:El Casal de Llavaneres
COMMENT:Preu: Entrada: 5&euro;. Entrada + CD: 8&euro;
URL:https://ajllavaneres.cat/document.php?id=16481
END:VEVENT
END:VCALENDAR