BEGIN:VCALENDAR
VERSION:2.0
PRODID:-//Plone.org//NONSGML plone.app.event//EN
X-WR-TIMEZONE:Europe/Madrid
BEGIN:VEVENT
SUMMARY:Diada Nacional de Catalunya
DTSTART;TZID=Europe/Madrid;VALUE=DATE-TIME:20070910T220000
DTEND;TZID=Europe/Madrid;VALUE=DATE-TIME:20070910T230000
DTSTAMP;VALUE=DATE-TIME:20260420T092355Z
UID:d617f0a9b81a633f33665dd088b71e45
CREATED;VALUE=DATE-TIME:20070910T000000Z
CATEGORIES:Dansa
LOCATION:Parc del pg. de la Mare de Déu de Montserrat
DESCRIPTION:Ballada de sardanes
URL:https://ajllavaneres.cat/document.php?id=165
END:VEVENT
END:VCALENDAR