BEGIN:VCALENDAR
VERSION:2.0
PRODID:-//Plone.org//NONSGML plone.app.event//EN
X-WR-TIMEZONE:Europe/Madrid
BEGIN:VEVENT
SUMMARY:Reunió mensual de la regidoria d'Educació i les llars d'infants municipals
DTSTART;TZID=Europe/Madrid;VALUE=DATE-TIME:20211001T094500
DTEND;TZID=Europe/Madrid;VALUE=DATE-TIME:20211001T104500
DTSTAMP;VALUE=DATE-TIME:20260419T151739Z
UID:bce94270bd475d21304a558c60c0ae3f
CREATED;VALUE=DATE-TIME:20211001T000000Z
CATEGORIES:Infantils,Reunió,Agenda institucional
LOCATION:Sessió telemàtica
ORGANIZER:Regidoria d'Educació
COMMENT:Durada: 1 hora
DESCRIPTION:Hi assistirà la regidora d'Educació, Maria José Cano
URL:https://ajllavaneres.cat/document.php?id=16652
END:VEVENT
END:VCALENDAR