BEGIN:VCALENDAR
VERSION:2.0
PRODID:-//Plone.org//NONSGML plone.app.event//EN
X-WR-TIMEZONE:Europe/Madrid
BEGIN:VEVENT
SUMMARY:Consell Municipal d'Esports
DTSTART;TZID=Europe/Madrid;VALUE=DATE-TIME:20210921T190000
DTEND;TZID=Europe/Madrid;VALUE=DATE-TIME:20210921T200000
DTSTAMP;VALUE=DATE-TIME:20260420T012933Z
UID:eaa87c43b7027af5295613c95b50cf19
CREATED;VALUE=DATE-TIME:20210921T000000Z
CATEGORIES:Esports,Agenda institucional
LOCATION:Sessió telemàtica
DESCRIPTION:Hi assistirà la regidora d'Esports, Maria José Cano
URL:https://ajllavaneres.cat/document.php?id=16658
END:VEVENT
END:VCALENDAR