BEGIN:VCALENDAR
VERSION:2.0
PRODID:-//Plone.org//NONSGML plone.app.event//EN
X-WR-TIMEZONE:Europe/Madrid
BEGIN:VEVENT
SUMMARY:XXIV Mostra de Teatre Dani Tapias
DTSTART;TZID=Europe/Madrid;VALUE=DATE-TIME:20211003T180000
DTEND;TZID=Europe/Madrid;VALUE=DATE-TIME:20211003T190000
DTSTAMP;VALUE=DATE-TIME:20260419T141954Z
UID:9498c96de0eff7e2280663eabd982c83
CREATED;VALUE=DATE-TIME:20211003T000000Z
CATEGORIES:Teatre
LOCATION:El Casal de Llavaneres - Avinguda de Catalunya, 56
ORGANIZER:SECCIÓ DE TEATRE D'EL CASAL
COMMENT:Preu: 6 &euro; SOCIS  - 8 &euro; NO SOCIS
DESCRIPTION:Teatre musical: 'Improside Story'
URL:https://ajllavaneres.cat/document.php?id=16775
END:VEVENT
END:VCALENDAR