BEGIN:VCALENDAR
VERSION:2.0
PRODID:-//Plone.org//NONSGML plone.app.event//EN
X-WR-TIMEZONE:Europe/Madrid
BEGIN:VEVENT
SUMMARY:Xerrada: 'Autoestima i empoderament femení'
DTSTART;TZID=Europe/Madrid;VALUE=DATE-TIME:20211020T190000
DTEND;TZID=Europe/Madrid;VALUE=DATE-TIME:20211020T200000
DTSTAMP;VALUE=DATE-TIME:20260419T221748Z
UID:e08b121365aa8bb7f066738eeb615097
CREATED;VALUE=DATE-TIME:20211020T000000Z
CATEGORIES:Conferència
LOCATION:Espai Labandària - Passeig de Jaume Brutau, 4
ORGANIZER:SI DONA
URL:https://ajllavaneres.cat/document.php?id=16781
END:VEVENT
END:VCALENDAR