BEGIN:VCALENDAR
VERSION:2.0
PRODID:-//Plone.org//NONSGML plone.app.event//EN
X-WR-TIMEZONE:Europe/Madrid
BEGIN:VEVENT
SUMMARY:Concert Jove amb Dj Edu R, Sander Clasen i Erixendj
DTSTART;TZID=Europe/Madrid;VALUE=DATE-TIME:20211127T200000
DTEND;TZID=Europe/Madrid;VALUE=DATE-TIME:20211127T210000
DTSTAMP;VALUE=DATE-TIME:20260423T122515Z
UID:ede070191dac74f8767f8b6eeac0219d
CREATED;VALUE=DATE-TIME:20211127T000000Z
CATEGORIES:Música
LOCATION:Parc de Ca l'Alfaro - Passeig de la Mare de Déu de Montserrat, 27-33
ORGANIZER:Regidoria de Cultura i Festes
COMMENT:Preu: Gratuït
Durada: 4 h
URL:https://ajllavaneres.cat/document.php?id=16849
END:VEVENT
END:VCALENDAR