BEGIN:VCALENDAR
VERSION:2.0
PRODID:-//Plone.org//NONSGML plone.app.event//EN
X-WR-TIMEZONE:Europe/Madrid
BEGIN:VEVENT
SUMMARY:Teatre amb La Inestable: 'L'herència'
DTSTART;TZID=Europe/Madrid;VALUE=DATE-TIME:20211127T213000
DTEND;TZID=Europe/Madrid;VALUE=DATE-TIME:20211127T223000
DTSTAMP;VALUE=DATE-TIME:20260423T122531Z
UID:65640f012850dad7fd77d7e9ff7b9316
CREATED;VALUE=DATE-TIME:20211127T000000Z
CATEGORIES:Teatre
LOCATION:El Casal de Llavaneres - Avinguda de Catalunya, 56
COMMENT:Preu: Gratuït
URL:https://ajllavaneres.cat/document.php?id=16850
END:VEVENT
END:VCALENDAR