BEGIN:VCALENDAR
VERSION:2.0
PRODID:-//Plone.org//NONSGML plone.app.event//EN
X-WR-TIMEZONE:Europe/Madrid
BEGIN:VEVENT
SUMMARY:Escape Room
DTSTART;TZID=Europe/Madrid;VALUE=DATE-TIME:20211128T110000
DTEND;TZID=Europe/Madrid;VALUE=DATE-TIME:20211128T120000
DTSTAMP;VALUE=DATE-TIME:20260423T185720Z
UID:4f0496824a494414d4a95805b3ca565f
CREATED;VALUE=DATE-TIME:20211128T000000Z
LOCATION:Parc de Ca l'Alfaro i carrers del poble
ORGANIZER:Regidoria de Joventut
COMMENT:Preu: Gratuït
DESCRIPTION:Voleu ser els vilatans de l'any? Participeu-hi!
URL:https://ajllavaneres.cat/document.php?id=16851
END:VEVENT
END:VCALENDAR