BEGIN:VCALENDAR
VERSION:2.0
PRODID:-//Plone.org//NONSGML plone.app.event//EN
X-WR-TIMEZONE:Europe/Madrid
BEGIN:VEVENT
SUMMARY:Concert de Lindy Hop "Four Little Birds"
DTSTART;TZID=Europe/Madrid;VALUE=DATE-TIME:20211128T123000
DTEND;TZID=Europe/Madrid;VALUE=DATE-TIME:20211128T133000
DTSTAMP;VALUE=DATE-TIME:20260423T121808Z
UID:84dc1d2e306b778b933a882399c6e335
CREATED;VALUE=DATE-TIME:20211128T000000Z
CATEGORIES:Música
LOCATION:Plaça de la Vila - Plaça de la Vila, 1
ORGANIZER:Regidoria de Cultura i Festes.
URL:https://ajllavaneres.cat/document.php?id=16853
END:VEVENT
END:VCALENDAR