BEGIN:VCALENDAR
VERSION:2.0
PRODID:-//Plone.org//NONSGML plone.app.event//EN
X-WR-TIMEZONE:Europe/Madrid
BEGIN:VEVENT
SUMMARY:Contacontes musical: "Un dia al mar" amb Marta Arnaus, Jordi Bardella (Guitarra) i Òscar Igual (acordió)
DTSTART;TZID=Europe/Madrid;VALUE=DATE-TIME:20211128T170000
DTEND;TZID=Europe/Madrid;VALUE=DATE-TIME:20211128T180000
DTSTAMP;VALUE=DATE-TIME:20260423T140939Z
UID:5ba9f8f36359ace426ec08993a9fe82e
CREATED;VALUE=DATE-TIME:20211128T000000Z
CATEGORIES:Teatre
LOCATION:Sala d'actes de Ca l'Alfaro
ORGANIZER:Regidoria de Cultura i Festes.
COMMENT:Preu: Gratuït
URL:https://ajllavaneres.cat/document.php?id=16854
END:VEVENT
END:VCALENDAR