BEGIN:VCALENDAR
VERSION:2.0
PRODID:-//Plone.org//NONSGML plone.app.event//EN
X-WR-TIMEZONE:Europe/Madrid
BEGIN:VEVENT
SUMMARY:Concert Camerart-Orquestra del Maresme
DTSTART;TZID=Europe/Madrid;VALUE=DATE-TIME:20211128T200000
DTEND;TZID=Europe/Madrid;VALUE=DATE-TIME:20211128T210000
DTSTAMP;VALUE=DATE-TIME:20260423T134832Z
UID:4e2627042f41d30f10a9544b85537623
CREATED;VALUE=DATE-TIME:20211128T000000Z
CATEGORIES:Música
LOCATION:Església Parroquial de Llavaneres
ORGANIZER:El Casal de Llavaneres, amb el suport de la Regidoria de Cultura i Festes.
URL:https://ajllavaneres.cat/document.php?id=16855
END:VEVENT
END:VCALENDAR