BEGIN:VCALENDAR
VERSION:2.0
PRODID:-//Plone.org//NONSGML plone.app.event//EN
X-WR-TIMEZONE:Europe/Madrid
BEGIN:VEVENT
SUMMARY:Contacontes en anglès: "Gina Ginger & Charlie Chives
DTSTART;TZID=Europe/Madrid;VALUE=DATE-TIME:20211130T113000
DTEND;TZID=Europe/Madrid;VALUE=DATE-TIME:20211130T123000
DTSTAMP;VALUE=DATE-TIME:20260423T134818Z
UID:9cfd9ffcf76dc9baec142ed2b88b37ee
CREATED;VALUE=DATE-TIME:20211130T000000Z
CATEGORIES:Infantils
LOCATION:Plaça de la Vila - Plaça de la Vila, 1
ORGANIZER:Kids & Us
COMMENT:Preu: Gratuït
URL:https://ajllavaneres.cat/document.php?id=16858
END:VEVENT
END:VCALENDAR