BEGIN:VCALENDAR
VERSION:2.0
PRODID:-//Plone.org//NONSGML plone.app.event//EN
X-WR-TIMEZONE:Europe/Madrid
BEGIN:VEVENT
SUMMARY:Concert del Combo 1 de l'Escola Municipal de Música Llavaneres
DTSTART;TZID=Europe/Madrid;VALUE=DATE-TIME:20211130T123000
DTEND;TZID=Europe/Madrid;VALUE=DATE-TIME:20211130T133000
DTSTAMP;VALUE=DATE-TIME:20260423T171132Z
UID:e56dc796fa15f1a0e2c117c055eea532
CREATED;VALUE=DATE-TIME:20211130T000000Z
CATEGORIES:Música
LOCATION:Plaça de la Vila - Plaça de la Vila, 1
COMMENT:Preu: Gratuït
Durada: Fins a les 13.30 h
URL:https://ajllavaneres.cat/document.php?id=16860
END:VEVENT
END:VCALENDAR