BEGIN:VCALENDAR
VERSION:2.0
PRODID:-//Plone.org//NONSGML plone.app.event//EN
X-WR-TIMEZONE:Europe/Madrid
BEGIN:VEVENT
SUMMARY:Felicitació dels Andreus i les Andrees
DTSTART;TZID=Europe/Madrid;VALUE=DATE-TIME:20211130T130000
DTEND;TZID=Europe/Madrid;VALUE=DATE-TIME:20211130T140000
DTSTAMP;VALUE=DATE-TIME:20260423T155527Z
UID:132f97f3e191253aebabf69fc9698c80
CREATED;VALUE=DATE-TIME:20211130T000000Z
LOCATION:Plaça de la Vila - Plaça de la Vila, 1
URL:https://ajllavaneres.cat/document.php?id=16861
END:VEVENT
END:VCALENDAR