BEGIN:VCALENDAR
VERSION:2.0
PRODID:-//Plone.org//NONSGML plone.app.event//EN
X-WR-TIMEZONE:Europe/Madrid
BEGIN:VEVENT
SUMMARY:Actuació d'Esperit de Joventut i el tenor Juanma Fernàndez
DTSTART;TZID=Europe/Madrid;VALUE=DATE-TIME:20211130T170000
DTEND;TZID=Europe/Madrid;VALUE=DATE-TIME:20211130T180000
DTSTAMP;VALUE=DATE-TIME:20260423T155453Z
UID:4f5725881c5e0350813b4366b23d5015
CREATED;VALUE=DATE-TIME:20211130T000000Z
CATEGORIES:Música
LOCATION:El Casal de Llavaneres - Avinguda de Catalunya, 56
COMMENT:Preu: Gratuït
URL:https://ajllavaneres.cat/document.php?id=16863
END:VEVENT
END:VCALENDAR