BEGIN:VCALENDAR
VERSION:2.0
PRODID:-//Plone.org//NONSGML plone.app.event//EN
X-WR-TIMEZONE:Europe/Madrid
BEGIN:VEVENT
SUMMARY:Rua de Halloween
DTSTART;TZID=Europe/Madrid;VALUE=DATE-TIME:20211030T183000
DTEND;TZID=Europe/Madrid;VALUE=DATE-TIME:20211030T193000
DTSTAMP;VALUE=DATE-TIME:20260419T221734Z
UID:cfad7846c36c52592359f12cd719dacf
CREATED;VALUE=DATE-TIME:20211030T000000Z
LOCATION:Carrer de Munt i plaça de la Vila
ORGANIZER:Escenika Academia.
COMMENT:Durada: Fins a les 21.30 hores.
DESCRIPTION:Al carrer de Munt
URL:https://ajllavaneres.cat/document.php?id=16919
END:VEVENT
END:VCALENDAR