BEGIN:VCALENDAR
VERSION:2.0
PRODID:-//Plone.org//NONSGML plone.app.event//EN
X-WR-TIMEZONE:Europe/Madrid
BEGIN:VEVENT
SUMMARY:Plantada de gegants
DTSTART;TZID=Europe/Madrid;VALUE=DATE-TIME:20211128T100000
DTEND;TZID=Europe/Madrid;VALUE=DATE-TIME:20211128T110000
DTSTAMP;VALUE=DATE-TIME:20260423T122703Z
UID:adb6842e074fd6333e6fb3919ac6ae72
CREATED;VALUE=DATE-TIME:20211128T000000Z
CATEGORIES:Festa,Infantils,Trobada
LOCATION:Plaça dels Geganters
ORGANIZER:Secció de Geganters d´El Casal de Llavaneres
URL:https://ajllavaneres.cat/document.php?id=16921
END:VEVENT
END:VCALENDAR