BEGIN:VCALENDAR
VERSION:2.0
PRODID:-//Plone.org//NONSGML plone.app.event//EN
X-WR-TIMEZONE:Europe/Madrid
BEGIN:VEVENT
SUMMARY:Cercavila de gegants
DTSTART;TZID=Europe/Madrid;VALUE=DATE-TIME:20211128T110000
DTEND;TZID=Europe/Madrid;VALUE=DATE-TIME:20211128T120000
DTSTAMP;VALUE=DATE-TIME:20260423T153309Z
UID:0413be0bdb8e4f75ed7807e3da2c9e44
CREATED;VALUE=DATE-TIME:20211128T000000Z
CATEGORIES:Festa,Infantils,Trobada
LOCATION:Plaça dels Geganters
ORGANIZER:Secció de Geganters d'El Casal de Llavaneres
URL:https://ajllavaneres.cat/document.php?id=16922
END:VEVENT
END:VCALENDAR