BEGIN:VCALENDAR
VERSION:2.0
PRODID:-//Plone.org//NONSGML plone.app.event//EN
X-WR-TIMEZONE:Europe/Madrid
BEGIN:VEVENT
SUMMARY:Torneig de Golf de Sant Andreu
DTSTART;TZID=Europe/Madrid;VALUE=DATE-TIME:20211130T090000
DTEND;TZID=Europe/Madrid;VALUE=DATE-TIME:20211130T100000
DTSTAMP;VALUE=DATE-TIME:20260423T153237Z
UID:d038f77989f50b6f3ba05c016944b2d6
CREATED;VALUE=DATE-TIME:20211130T000000Z
CATEGORIES:Esports
LOCATION:Club de Golf Llavaneres
ORGANIZER:Club de Golf Llavaneres
URL:https://ajllavaneres.cat/document.php?id=16942
END:VEVENT
END:VCALENDAR