BEGIN:VCALENDAR
VERSION:2.0
PRODID:-//Plone.org//NONSGML plone.app.event//EN
X-WR-TIMEZONE:Europe/Madrid
BEGIN:VEVENT
SUMMARY:Reunió interna: RRHH i Esports
DTSTART;TZID=Europe/Madrid;VALUE=DATE-TIME:20220114T000000
DTEND;TZID=Europe/Madrid;VALUE=DATE-TIME:20220114T010000
DTSTAMP;VALUE=DATE-TIME:20260420T010310Z
UID:3e9e54f1cbfcd54d11de84b2b3fb6431
CREATED;VALUE=DATE-TIME:20220114T000000Z
CATEGORIES:Agenda institucional
LOCATION:Sala de juntes - Plaça de la Vila, 1
URL:https://ajllavaneres.cat/document.php?id=17206
END:VEVENT
END:VCALENDAR