BEGIN:VCALENDAR
VERSION:2.0
PRODID:-//Plone.org//NONSGML plone.app.event//EN
X-WR-TIMEZONE:Europe/Madrid
BEGIN:VEVENT
SUMMARY:Sessió del Consell Escolar Municipal
DTSTART;TZID=Europe/Madrid;VALUE=DATE-TIME:20220309T173000
DTEND;TZID=Europe/Madrid;VALUE=DATE-TIME:20220309T183000
DTSTAMP;VALUE=DATE-TIME:20260419T140450Z
UID:75cfc7b6afaaa57cfb6fde25b373b61f
CREATED;VALUE=DATE-TIME:20220309T000000Z
CATEGORIES:Reunió,Agenda institucional
LOCATION:Sessió telemàtica
ORGANIZER:Regidoria d'Educació
COMMENT:Durada: 1 hora
DESCRIPTION:Hi assistirà la regidora d'Educació, Maria José Cano
URL:https://ajllavaneres.cat/document.php?id=17257
END:VEVENT
END:VCALENDAR