BEGIN:VCALENDAR
VERSION:2.0
PRODID:-//Plone.org//NONSGML plone.app.event//EN
X-WR-TIMEZONE:Europe/Madrid
BEGIN:VEVENT
SUMMARY:Reunió: Comunicació i Igualtat
DTSTART;TZID=Europe/Madrid;VALUE=DATE-TIME:20220204T114500
DTEND;TZID=Europe/Madrid;VALUE=DATE-TIME:20220204T124500
DTSTAMP;VALUE=DATE-TIME:20260420T061651Z
UID:3f1aaf82df70f99f21e2976773e32ae8
CREATED;VALUE=DATE-TIME:20220204T000000Z
CATEGORIES:Agenda institucional
LOCATION:Sessió telemàtica
DESCRIPTION:Hi assistirà la regidora d'Igualtat, Nadine van Loock, i el regidor de Comunicació i Participació Ciutadana, Gerard Viladomat
URL:https://ajllavaneres.cat/document.php?id=17318
END:VEVENT
END:VCALENDAR