BEGIN:VCALENDAR
VERSION:2.0
PRODID:-//Plone.org//NONSGML plone.app.event//EN
X-WR-TIMEZONE:Europe/Madrid
BEGIN:VEVENT
SUMMARY:Reunió: preparatius Dia Mundial de la Poesia
DTSTART;TZID=Europe/Madrid;VALUE=DATE-TIME:20220215T100000
DTEND;TZID=Europe/Madrid;VALUE=DATE-TIME:20220215T110000
DTSTAMP;VALUE=DATE-TIME:20260420T010226Z
UID:4d5569d5c7bd83c85b81ac81a5fcc190
CREATED;VALUE=DATE-TIME:20220215T000000Z
CATEGORIES:Agenda institucional
LOCATION:Sessió telemàtica
DESCRIPTION:Hi assistirà la regidora de Joventut, Nadine van Loock, el regidor de Cultura, Xavier, Noms, i el regidor de Comunicació i Participació Ciutadana, Gerard Viladomat
URL:https://ajllavaneres.cat/document.php?id=17321
END:VEVENT
END:VCALENDAR