BEGIN:VCALENDAR
VERSION:2.0
PRODID:-//Plone.org//NONSGML plone.app.event//EN
X-WR-TIMEZONE:Europe/Madrid
BEGIN:VEVENT
SUMMARY:Reunió: Comunicació i Igualtat
DTSTART;TZID=Europe/Madrid;VALUE=DATE-TIME:20220211T104500
DTEND;TZID=Europe/Madrid;VALUE=DATE-TIME:20220211T114500
DTSTAMP;VALUE=DATE-TIME:20260419T182854Z
UID:31b75632d16e4083c892ef086482f26e
CREATED;VALUE=DATE-TIME:20220211T000000Z
CATEGORIES:Agenda institucional
LOCATION:Sessió telemàtica
DESCRIPTION:Hi assistirà la regidora d'Igualtat, Nadine van Loock, i el regidor de Comunicació i Participació Ciutadana, Gerard Viladomat
URL:https://ajllavaneres.cat/document.php?id=17357
END:VEVENT
END:VCALENDAR