BEGIN:VCALENDAR
VERSION:2.0
PRODID:-//Plone.org//NONSGML plone.app.event//EN
X-WR-TIMEZONE:Europe/Madrid
BEGIN:VEVENT
SUMMARY:Reunió regidories Promoció Econòmica i Ocupació
DTSTART;TZID=Europe/Madrid;VALUE=DATE-TIME:20220215T093000
DTEND;TZID=Europe/Madrid;VALUE=DATE-TIME:20220215T103000
DTSTAMP;VALUE=DATE-TIME:20260422T145937Z
UID:d433d9270c17e60dcdba5ed15ead1be1
CREATED;VALUE=DATE-TIME:20220215T000000Z
CATEGORIES:Agenda institucional
LOCATION:Plaça de la Vila - Plaça de la Vila, 1
ORGANIZER:Regidories Promoció Econòmica i Ocupació
COMMENT:Durada: 1 hora
DESCRIPTION:Reunió organització cicle formatiu FORMA'T 2022
URL:https://ajllavaneres.cat/document.php?id=17362
END:VEVENT
END:VCALENDAR