BEGIN:VCALENDAR
VERSION:2.0
PRODID:-//Plone.org//NONSGML plone.app.event//EN
X-WR-TIMEZONE:Europe/Madrid
BEGIN:VEVENT
SUMMARY:Reunió amb el representant de l'Associació Catalana Classe Internacional Optimist
DTSTART;TZID=Europe/Madrid;VALUE=DATE-TIME:20220211T120000
DTEND;TZID=Europe/Madrid;VALUE=DATE-TIME:20220211T130000
DTSTAMP;VALUE=DATE-TIME:20260420T061846Z
UID:76bcd14504daea08ae29c94b28558896
CREATED;VALUE=DATE-TIME:20220211T000000Z
CATEGORIES:Agenda institucional
LOCATION:Sala de juntes - Plaça de la Vila, 1
DESCRIPTION:Hi assistirà la regidora d'Esports, Maria José Cano
URL:https://ajllavaneres.cat/document.php?id=17365
END:VEVENT
END:VCALENDAR