BEGIN:VCALENDAR
VERSION:2.0
PRODID:-//Plone.org//NONSGML plone.app.event//EN
X-WR-TIMEZONE:Europe/Madrid
BEGIN:VEVENT
SUMMARY:Reunió interna: Govern Obert
DTSTART;TZID=Europe/Madrid;VALUE=DATE-TIME:20220215T090000
DTEND;TZID=Europe/Madrid;VALUE=DATE-TIME:20220215T100000
DTSTAMP;VALUE=DATE-TIME:20260419T134625Z
UID:e8a51ab1cad845237b27330fdafd6ea5
CREATED;VALUE=DATE-TIME:20220215T000000Z
CATEGORIES:Agenda institucional
ORGANIZER:Regidoria de Comunicació
DESCRIPTION:Hi assistirà el regidor de Comunicació, Transparència i Participació Ciutadana, Gerard Viladomat
URL:https://ajllavaneres.cat/document.php?id=17412
END:VEVENT
END:VCALENDAR