BEGIN:VCALENDAR
VERSION:2.0
PRODID:-//Plone.org//NONSGML plone.app.event//EN
X-WR-TIMEZONE:Europe/Madrid
BEGIN:VEVENT
SUMMARY:Reunió interna: 8M
DTSTART;TZID=Europe/Madrid;VALUE=DATE-TIME:20220215T093000
DTEND;TZID=Europe/Madrid;VALUE=DATE-TIME:20220215T103000
DTSTAMP;VALUE=DATE-TIME:20260420T065748Z
UID:19e1ebf943e12b650e8817a7a78472f7
CREATED;VALUE=DATE-TIME:20220215T000000Z
CATEGORIES:Agenda institucional
ORGANIZER:Regidoria de Comunicació
DESCRIPTION:Hi assistirà la regidora d'Igualtat, Nadine van Loock, i el regidor de Comunicació, Transparència i Participació Ciutadana, Gerard Viladomat
URL:https://ajllavaneres.cat/document.php?id=17413
END:VEVENT
END:VCALENDAR