BEGIN:VCALENDAR
VERSION:2.0
PRODID:-//Plone.org//NONSGML plone.app.event//EN
X-WR-TIMEZONE:Europe/Madrid
BEGIN:VEVENT
SUMMARY:Reunió interna: Esports
DTSTART;TZID=Europe/Madrid;VALUE=DATE-TIME:20220218T093000
DTEND;TZID=Europe/Madrid;VALUE=DATE-TIME:20220218T103000
DTSTAMP;VALUE=DATE-TIME:20260420T060040Z
UID:ecf6c308b94b307af445e31490388e50
CREATED;VALUE=DATE-TIME:20220218T000000Z
CATEGORIES:Agenda institucional
LOCATION:Sala de juntes - Plaça de la Vila, 1
DESCRIPTION:Hi assistirà la regidora d'Esports, Maria José Cano
URL:https://ajllavaneres.cat/document.php?id=17416
END:VEVENT
END:VCALENDAR