BEGIN:VCALENDAR
VERSION:2.0
PRODID:-//Plone.org//NONSGML plone.app.event//EN
X-WR-TIMEZONE:Europe/Madrid
BEGIN:VEVENT
SUMMARY:Reunió: Medi Ambient i Comunicació
DTSTART;TZID=Europe/Madrid;VALUE=DATE-TIME:20220222T120000
DTEND;TZID=Europe/Madrid;VALUE=DATE-TIME:20220222T130000
DTSTAMP;VALUE=DATE-TIME:20260420T060025Z
UID:943752221dd4f4d7170fa839a0b6a539
CREATED;VALUE=DATE-TIME:20220222T000000Z
CATEGORIES:Agenda institucional
LOCATION:Sala de juntes - Plaça de la Vila, 1
DESCRIPTION:Hi assistirà el regidor de Medi Ambient, Jordi Roldós, i el regidor de Comunicació i Participació Ciutadana, Gerard Viladomat
URL:https://ajllavaneres.cat/document.php?id=17420
END:VEVENT
END:VCALENDAR