BEGIN:VCALENDAR
VERSION:2.0
PRODID:-//Plone.org//NONSGML plone.app.event//EN
X-WR-TIMEZONE:Europe/Madrid
BEGIN:VEVENT
SUMMARY:Reunió interna: Recursos Humans i Esports
DTSTART;TZID=Europe/Madrid;VALUE=DATE-TIME:20220225T120000
DTEND;TZID=Europe/Madrid;VALUE=DATE-TIME:20220225T130000
DTSTAMP;VALUE=DATE-TIME:20260420T114244Z
UID:5ea90ff8943d9c69ebc526715a50a214
CREATED;VALUE=DATE-TIME:20220225T000000Z
CATEGORIES:Agenda institucional
LOCATION:Sala de juntes - Plaça de la Vila, 1
DESCRIPTION:Hi assistirà la regidora d'Esports, Maria José Cano
URL:https://ajllavaneres.cat/document.php?id=17460
END:VEVENT
END:VCALENDAR