BEGIN:VCALENDAR
VERSION:2.0
PRODID:-//Plone.org//NONSGML plone.app.event//EN
X-WR-TIMEZONE:Europe/Madrid
BEGIN:VEVENT
SUMMARY:Reunió amb les famílies de les escoles bressol municipals
DTSTART;TZID=Europe/Madrid;VALUE=DATE-TIME:20220304T140000
DTEND;TZID=Europe/Madrid;VALUE=DATE-TIME:20220304T150000
DTSTAMP;VALUE=DATE-TIME:20260420T060010Z
UID:e8eaa0beb22dfa84a36e56f7f9216f1a
CREATED;VALUE=DATE-TIME:20220304T000000Z
CATEGORIES:Agenda institucional
LOCATION:Sessió telemàtica
DESCRIPTION:Hi assistirà la regidora d'Educació, Maria José Cano
URL:https://ajllavaneres.cat/document.php?id=17502
END:VEVENT
END:VCALENDAR