BEGIN:VCALENDAR
VERSION:2.0
PRODID:-//Plone.org//NONSGML plone.app.event//EN
X-WR-TIMEZONE:Europe/Madrid
BEGIN:VEVENT
SUMMARY:Reunió Pla d'Acció Comunitària
DTSTART;TZID=Europe/Madrid;VALUE=DATE-TIME:20220311T090000
DTEND;TZID=Europe/Madrid;VALUE=DATE-TIME:20220311T100000
DTSTAMP;VALUE=DATE-TIME:20260419T204202Z
UID:1682cfe2880b6c7213a891db1ef81f2a
CREATED;VALUE=DATE-TIME:20220311T000000Z
CATEGORIES:Agenda institucional
LOCATION:Sessió telemàtica
ORGANIZER:Regidoria de Benestar Social amb la col·laboració d'altres regidories
COMMENT:Durada: Fins 10:30h
URL:https://ajllavaneres.cat/document.php?id=17525
END:VEVENT
END:VCALENDAR