BEGIN:VCALENDAR
VERSION:2.0
PRODID:-//Plone.org//NONSGML plone.app.event//EN
X-WR-TIMEZONE:Europe/Madrid
BEGIN:VEVENT
SUMMARY:Reunió mensual escoles bressol
DTSTART;TZID=Europe/Madrid;VALUE=DATE-TIME:20220318T090000
DTEND;TZID=Europe/Madrid;VALUE=DATE-TIME:20220318T100000
DTSTAMP;VALUE=DATE-TIME:20260419T190639Z
UID:0ba4f9d347f6ba12fa1a530bd21b1544
CREATED;VALUE=DATE-TIME:20220318T000000Z
CATEGORIES:Agenda institucional
LOCATION:Sessió telemàtica
ORGANIZER:Regidoria d'Educació
COMMENT:Durada: de 9h a 10h
URL:https://ajllavaneres.cat/document.php?id=17527
END:VEVENT
END:VCALENDAR