BEGIN:VCALENDAR
VERSION:2.0
PRODID:-//Plone.org//NONSGML plone.app.event//EN
X-WR-TIMEZONE:Europe/Madrid
BEGIN:VEVENT
SUMMARY:Consell Escolar llar d'infants Sant Nicolau
DTSTART;TZID=Europe/Madrid;VALUE=DATE-TIME:20220325T094500
DTEND;TZID=Europe/Madrid;VALUE=DATE-TIME:20220325T104500
DTSTAMP;VALUE=DATE-TIME:20260422T160932Z
UID:83c7cafc2b27f970ac97768dca9afd9b
CREATED;VALUE=DATE-TIME:20220325T000000Z
CATEGORIES:Agenda institucional
LOCATION:Sessió telemàtica
ORGANIZER:Llar d'infants pública Sant Nicolau
COMMENT:Durada: de 9:45h a 10:45h
URL:https://ajllavaneres.cat/document.php?id=17528
END:VEVENT
END:VCALENDAR