BEGIN:VCALENDAR
VERSION:2.0
PRODID:-//Plone.org//NONSGML plone.app.event//EN
X-WR-TIMEZONE:Europe/Madrid
BEGIN:VEVENT
SUMMARY:Reunió: Comunicació i Biblioteca
DTSTART;TZID=Europe/Madrid;VALUE=DATE-TIME:20220310T170000
DTEND;TZID=Europe/Madrid;VALUE=DATE-TIME:20220310T180000
DTSTAMP;VALUE=DATE-TIME:20260419T204051Z
UID:84ed04a893d39c4e5e36bfd620adc059
CREATED;VALUE=DATE-TIME:20220310T000000Z
CATEGORIES:Agenda institucional
LOCATION:Biblioteca Municipal - Closens, 65
DESCRIPTION:Hi assistirà el regidor de Comunicació, Transparència i Participació Ciutadana, Gerard Viladomat
URL:https://ajllavaneres.cat/document.php?id=17535
END:VEVENT
END:VCALENDAR