BEGIN:VCALENDAR
VERSION:2.0
PRODID:-//Plone.org//NONSGML plone.app.event//EN
X-WR-TIMEZONE:Europe/Madrid
BEGIN:VEVENT
SUMMARY:Reunió pacificació escola Jaume Llull
DTSTART;TZID=Europe/Madrid;VALUE=DATE-TIME:20220318T150000
DTEND;TZID=Europe/Madrid;VALUE=DATE-TIME:20220318T160000
DTSTAMP;VALUE=DATE-TIME:20260419T221918Z
UID:a944d90ffc6e399797a8382348df19a0
CREATED;VALUE=DATE-TIME:20220318T000000Z
CATEGORIES:Agenda institucional
LOCATION:Sala de juntes - Plaça de la Vila, 1
ORGANIZER:Regidoria d'Educació
COMMENT:Durada: 1 hora
URL:https://ajllavaneres.cat/document.php?id=17562
END:VEVENT
END:VCALENDAR