BEGIN:VCALENDAR
VERSION:2.0
PRODID:-//Plone.org//NONSGML plone.app.event//EN
X-WR-TIMEZONE:Europe/Madrid
BEGIN:VEVENT
SUMMARY:Reunió Penya Barça i Bàsquet 3 Viles
DTSTART;TZID=Europe/Madrid;VALUE=DATE-TIME:20220318T100000
DTEND;TZID=Europe/Madrid;VALUE=DATE-TIME:20220318T110000
DTSTAMP;VALUE=DATE-TIME:20260419T160130Z
UID:1b959336eb605327a1a8ccf2419ffc32
CREATED;VALUE=DATE-TIME:20220318T000000Z
CATEGORIES:Agenda institucional
LOCATION:Sala de juntes - Plaça de la Vila, 1
DESCRIPTION:Hi assistirà la regidora d'Esports, Maria José Cano
URL:https://ajllavaneres.cat/document.php?id=17572
END:VEVENT
END:VCALENDAR