BEGIN:VCALENDAR
VERSION:2.0
PRODID:-//Plone.org//NONSGML plone.app.event//EN
X-WR-TIMEZONE:Europe/Madrid
BEGIN:VEVENT
SUMMARY:Jornada 'Dona i treball: empoderem el talent femení'
DTSTART;TZID=Europe/Madrid;VALUE=DATE-TIME:20220315T110000
DTEND;TZID=Europe/Madrid;VALUE=DATE-TIME:20220315T120000
DTSTAMP;VALUE=DATE-TIME:20260420T061706Z
UID:be93ee03882414bad77d146a8b309863
CREATED;VALUE=DATE-TIME:20220315T000000Z
CATEGORIES:Agenda institucional
LOCATION:Centre Cívic El Gorg de Sant Vicenç de Montalt.
DESCRIPTION:Hi assistirà el regidor de Comunicació i Participació Ciutadana, Gerard Viladomat
URL:https://ajllavaneres.cat/document.php?id=17574
END:VEVENT
END:VCALENDAR