BEGIN:VCALENDAR
VERSION:2.0
PRODID:-//Plone.org//NONSGML plone.app.event//EN
X-WR-TIMEZONE:Europe/Madrid
BEGIN:VEVENT
SUMMARY:Reunió interna: Festa del Pèsol 2022
DTSTART;TZID=Europe/Madrid;VALUE=DATE-TIME:20220321T103000
DTEND;TZID=Europe/Madrid;VALUE=DATE-TIME:20220321T113000
DTSTAMP;VALUE=DATE-TIME:20260419T164902Z
UID:7f9e1ea1da44045a1670ccee1e7a54d0
CREATED;VALUE=DATE-TIME:20220321T000000Z
CATEGORIES:Agenda institucional
LOCATION:Sala polivalent de Ca l'Alfaro - Passeig de la Mare de Déu de Montserrat, 27-33
ORGANIZER:Regidoria de Promoció Econòmica, Empresa, Comerç, Turisme i Consum
DESCRIPTION:Hi assistirà la regidora de Promoció Econòmica, Empresa, Comerç, Turisme i Noves Tecnologies, Teresa Vidal
URL:https://ajllavaneres.cat/document.php?id=17575
END:VEVENT
END:VCALENDAR