BEGIN:VCALENDAR
VERSION:2.0
PRODID:-//Plone.org//NONSGML plone.app.event//EN
X-WR-TIMEZONE:Europe/Madrid
BEGIN:VEVENT
SUMMARY:Taula de treball de representants polítics Pla de reactivació Econòmica
DTSTART;TZID=Europe/Madrid;VALUE=DATE-TIME:20220322T190000
DTEND;TZID=Europe/Madrid;VALUE=DATE-TIME:20220322T200000
DTSTAMP;VALUE=DATE-TIME:20260420T083716Z
UID:a59467154d5036488c2319846a9110c3
CREATED;VALUE=DATE-TIME:20220322T000000Z
CATEGORIES:Agenda institucional
LOCATION:Sessió telemàtica
COMMENT:Durada: 1 h
DESCRIPTION:Hi assistirà la regidora de Promoció Econòmica, Empresa, Comerç, Turisme i Noves Tecnologies, Teresa Vidal
URL:https://ajllavaneres.cat/document.php?id=17576
END:VEVENT
END:VCALENDAR