BEGIN:VCALENDAR
VERSION:2.0
PRODID:-//Plone.org//NONSGML plone.app.event//EN
X-WR-TIMEZONE:Europe/Madrid
BEGIN:VEVENT
SUMMARY:Classe oberta d'història de la música
DTSTART;TZID=Europe/Madrid;VALUE=DATE-TIME:20220314T190000
DTEND;TZID=Europe/Madrid;VALUE=DATE-TIME:20220314T200000
DTSTAMP;VALUE=DATE-TIME:20260420T034542Z
UID:5a1adf3203669c7993b7003cada44999
CREATED;VALUE=DATE-TIME:20220314T000000Z
CATEGORIES:Agenda institucional
LOCATION:Sala d'actes de la Biblioteca Municipal - Closens, 65
DESCRIPTION:Hi assistirà el regidor de Comunicació, Transparència i Participació Ciutadana, Gerard Viladomat
URL:https://ajllavaneres.cat/document.php?id=17577
END:VEVENT
END:VCALENDAR